BEGIN:VCALENDAR
VERSION:2.0
PRODID:-//Open Door Animal Sanctuary - ECPv6.15.20//NONSGML v1.0//EN
CALSCALE:GREGORIAN
METHOD:PUBLISH
X-ORIGINAL-URL:https://odas.org
X-WR-CALDESC:Events for Open Door Animal Sanctuary
REFRESH-INTERVAL;VALUE=DURATION:PT1H
X-Robots-Tag:noindex
X-PUBLISHED-TTL:PT1H
BEGIN:VTIMEZONE
TZID:UTC
BEGIN:STANDARD
TZOFFSETFROM:+0000
TZOFFSETTO:+0000
TZNAME:UTC
DTSTART:20250101T000000
END:STANDARD
END:VTIMEZONE
BEGIN:VEVENT
DTSTART;TZID=UTC:20260425T070000
DTEND;TZID=UTC:20260425T130000
DTSTAMP:20260425T013322
CREATED:20260420T173128Z
LAST-MODIFIED:20260420T173328Z
UID:18997-1777100400-1777122000@odas.org
SUMMARY:Crestwood Neighborhood Yard Sale – Benefiting Cats and Dogs of ODAS - Sat.\, April 25
DESCRIPTION:The Friends of ODAS will be participating in the Crestwood Neighborhood Garage Sale! \nSaturday\, April 25\, 2026Time: 7:00 a.m. – 1:00 p.m.Location: 9122 Clydesdale Drive\, Crestwood\, MO \nStop by\, shop for great finds\, and support a great cause. All proceeds benefit the rescued cats and dogs at Open Door Animal Sanctuary. \nShoppers can view the full list of participants and map here:https://www.cityofcrestwood.org/Calendar.aspx?EID=3570
URL:https://odas.org/event/crestwood-neighborhood-yard-sale-benefiting-cats-and-dogs-of-odas-sat-april-25/
ATTACH;FMTTYPE=image/png:https://odas.org/wp-content/uploads/2026/04/ChatGPT-Image-Apr-20-2026-12_12_22-PM-1.png
ORGANIZER;CN="ODAS":MAILTO:development@odas.org
END:VEVENT
END:VCALENDAR