BEGIN:VCALENDAR
VERSION:2.0
PRODID:-//Open Door Animal Sanctuary - ECPv6.15.20//NONSGML v1.0//EN
CALSCALE:GREGORIAN
METHOD:PUBLISH
X-ORIGINAL-URL:https://odas.org
X-WR-CALDESC:Events for Open Door Animal Sanctuary
REFRESH-INTERVAL;VALUE=DURATION:PT1H
X-Robots-Tag:noindex
X-PUBLISHED-TTL:PT1H
BEGIN:VTIMEZONE
TZID:UTC
BEGIN:STANDARD
TZOFFSETFROM:+0000
TZOFFSETTO:+0000
TZNAME:UTC
DTSTART:20250101T000000
END:STANDARD
END:VTIMEZONE
BEGIN:VEVENT
DTSTART;TZID=UTC:20260403T130000
DTEND;TZID=UTC:20260403T170000
DTSTAMP:20260422T105831
CREATED:20260322T193221Z
LAST-MODIFIED:20260322T193221Z
UID:18508-1775221200-1775235600@odas.org
SUMMARY:Proper Paws Adoption Event
DESCRIPTION:Join Open Door Animal Sanctuary and some of our adorable\, adoptable puppies for a fun time at Proper Festus West from 1pm-5pm! Enjoy food trucks\, a photobooth\, a silent auction\, and sales on pet products. \nProper is also generously collecting donations for our shelter animals\, and the first 3 adoptions will be sponsored by New Growth Horizon Foundation! \nStop by and meet your new best friend! \n Friday\, April 3rd  1:00 PM – 5:00 PM Proper Festus West 2285 HWY 67 S\, Festus\, MO 63028
URL:https://odas.org/event/proper-paws-adoption-event/
LOCATION:Missouri
ATTACH;FMTTYPE=application/pdf:https://odas.org/wp-content/uploads/2026/03/properevent2026.pdf
ORGANIZER;CN="ODAS":MAILTO:development@odas.org
END:VEVENT
END:VCALENDAR